BEGIN:VCALENDAR
VERSION:2.0
PRODID:-//Squarespace Inc/Squarespace 6//v6//EN
BEGIN:VEVENT
UID:5be8adc00e2e721437aa8915@squarespace.com
DTSTAMP:20181221T000014Z
DTSTART:20181221T040000Z
DTEND:20181223T050000Z
SUMMARY:Christmas at Silo Park
GEO:-36.840374;174.754912
LOCATION:Silo Park\, Corner of Beaumont and Jellicoe Street\, Auckland\, Ne
 w Zealand
END:VEVENT
END:VCALENDAR
