BEGIN:VCALENDAR
VERSION:2.0
PRODID:-//Squarespace Inc/Squarespace 6//v6//EN
BEGIN:VEVENT
UID:5b57b37f2b6a288bcafcd1f1@squarespace.com
DTSTAMP:20180814T024058Z
DTSTART:20180803T220000Z
DTEND:20180804T050000Z
SUMMARY:Wynyard Quarter's 7th Birthday at Silo Park
GEO:-36.840374;174.754912
LOCATION:Silo Park\, Corner of Beaumont and Jellicoe Street\, Auckland\, Ne
 w Zealand
END:VEVENT
END:VCALENDAR
