BEGIN:VCALENDAR
VERSION:2.0
PRODID:-//Squarespace Inc/Squarespace 6//v6//EN
BEGIN:VEVENT
UID:5be8a78c40ec9a97ddc38032@squarespace.com
DTSTAMP:20181113T004050Z
DTSTART:20190215T230000Z
DTEND:20190216T050000Z
SUMMARY:World On The Street: Māori &amp\; Pasifika
GEO:-36.840374;174.754912
LOCATION:Silo Park\, Corner of Beaumont and Jellicoe Street\, Auckland\, Ne
 w Zealand
END:VEVENT
END:VCALENDAR
