BEGIN:VCALENDAR
VERSION:2.0
PRODID:-//Squarespace Inc/Squarespace 6//v6//EN
BEGIN:VEVENT
UID:5be8aa058985835f898424ee@squarespace.com
DTSTAMP:20181113T004403Z
DTSTART:20190301T230000Z
DTEND:20190302T050000Z
SUMMARY:World On The Street: Latin America
GEO:-36.840374;174.754912
LOCATION:Silo Park\, Corner of Beaumont and Jellicoe Street\, Auckland\, Ne
 w Zealand
END:VEVENT
END:VCALENDAR
