BEGIN:VCALENDAR
VERSION:2.0
PRODID:-//Squarespace Inc/Squarespace 6//v6//EN
BEGIN:VEVENT
UID:5be8ab2cb8a0453fd32b220c@squarespace.com
DTSTAMP:20181113T004641Z
DTSTART:20190308T230000Z
DTEND:20190309T050000Z
SUMMARY:World On The Street: East &amp\; Southeast Asia
GEO:-36.840374;174.754912
LOCATION:Silo Park\, Corner of Beaumont and Jellicoe Street\, Auckland\, Ne
 w Zealand
END:VEVENT
END:VCALENDAR
