BEGIN:VCALENDAR
VERSION:2.0
PRODID:-//Squarespace Inc/Squarespace 6//v6//EN
BEGIN:VEVENT
UID:5be8a941758d466fbbfd26e3@squarespace.com
DTSTAMP:20181113T004237Z
DTSTART:20190222T230000Z
DTEND:20190223T050000Z
SUMMARY:World On The Street: Africa
GEO:-36.840374;174.754912
LOCATION:Silo Park\, Corner of Beaumont and Jellicoe Street\, Auckland\, Ne
 w Zealand
END:VEVENT
END:VCALENDAR
