BEGIN:VCALENDAR
VERSION:2.0
PRODID:-//Squarespace Inc/Squarespace 6//v6//EN
BEGIN:VEVENT
UID:5be8dd3440ec9a97ddc614ae@squarespace.com
DTSTAMP:20181126T025614Z
DTSTART:20190125T040000Z
DTEND:20190125T100000Z
SUMMARY:Silo Cinema: Whale Rider
GEO:-36.840374;174.754912
LOCATION:Silo Park\, Corner of Jellicoe and Beaumont Street\, Auckland\, Ne
 w Zealand
END:VEVENT
END:VCALENDAR
