BEGIN:VCALENDAR
VERSION:2.0
PRODID:-//Squarespace Inc/Squarespace 6//v6//EN
BEGIN:VEVENT
UID:5b72453f40ec9acb88e51174@squarespace.com
DTSTAMP:20180814T043628Z
DTSTART:20181012T050000Z
DTEND:20181016T040000Z
SUMMARY:The Next Level
GEO:-36.840374;174.754912
LOCATION:Silo Park\, Corner of Jellicoe and Beaumont Street\, Auckland\, Ne
 w Zealand
END:VEVENT
END:VCALENDAR
