BEGIN:VCALENDAR
VERSION:2.0
PRODID:-//Squarespace Inc/Squarespace 6//v6//EN
BEGIN:VEVENT
UID:5be8a4da032be4540ec14789@squarespace.com
DTSTAMP:20181126T030116Z
DTSTART:20190208T040000Z
DTEND:20190208T100000Z
SUMMARY:Silo Cinema: Solo: A Star Wars Story
GEO:-36.840374;174.754912
LOCATION:Silo Park\, Corner of Jellicoe and Beaumont Street\, Auckland\, Ne
 w Zealand
END:VEVENT
END:VCALENDAR
