BEGIN:VCALENDAR
VERSION:2.0
PRODID:-//Squarespace Inc/Squarespace 6//v6//EN
BEGIN:VEVENT
UID:5be8a6c888251b96c32b2e2c@squarespace.com
DTSTAMP:20181126T030754Z
DTSTART:20190222T040000Z
DTEND:20190222T100000Z
SUMMARY:Silo Cinema: Shoplifters
GEO:-36.840374;174.754912
LOCATION:Silo Park\, Corner of Jellicoe and Beaumont Street\, Auckland\, Ne
 w Zealand
END:VEVENT
END:VCALENDAR
