BEGIN:VCALENDAR
VERSION:2.0
PRODID:-//Squarespace Inc/Squarespace 6//v6//EN
BEGIN:VEVENT
UID:5b172e5c758d465d6f89e41b@squarespace.com
DTSTAMP:20180814T024142Z
DTSTART:20180630T060000Z
DTEND:20180630T080000Z
SUMMARY:Seeing Sound - A contemporary dance site specific performance
GEO:-36.840374;174.754912
LOCATION:Silo Park\, Corner of Jellicoe and Beaumont Street\, Auckland\, Ne
 w Zealand
END:VEVENT
END:VCALENDAR
