BEGIN:VCALENDAR
VERSION:2.0
PRODID:-//Squarespace Inc/Squarespace 6//v6//EN
BEGIN:VEVENT
UID:5b1d882c562fa7f5d399ba0e@squarespace.com
DTSTAMP:20180718T045624Z
DTSTART:20180720T050000Z
DTEND:20180722T050000Z
SUMMARY:Puna Kai
GEO:-36.840374;174.754912
LOCATION:Silo Park\, Corner of Beaumont and Jellicoe Street\, Auckland\, Ne
 w Zealand
END:VEVENT
END:VCALENDAR
