BEGIN:VCALENDAR
VERSION:2.0
PRODID:-//Squarespace Inc/Squarespace 6//v6//EN
BEGIN:VEVENT
UID:5be8a5a8352f53a24d654917@squarespace.com
DTSTAMP:20181126T030332Z
DTSTART:20190214T040000Z
DTEND:20190214T100000Z
SUMMARY:Valentines at Silo Cinema: The Princess Bride 
GEO:-36.840374;174.754912
LOCATION:Silo Park\, Corner of Jellicoe and Beaumont Street\, Auckland\, Ne
 w Zealand
END:VEVENT
END:VCALENDAR
