BEGIN:VCALENDAR
VERSION:2.0
PRODID:-//Squarespace Inc/Squarespace 6//v6//EN
BEGIN:VEVENT
UID:5be8c27421c67c13123cf1d5@squarespace.com
DTSTAMP:20181112T213152Z
DTSTART:20190125T230000Z
DTEND:20190126T050000Z
SUMMARY:Photo Laundry 2019
GEO:-36.840374;174.754912
LOCATION:Silo Park\, Corner of Beaumont and Jellicoe Street\, Auckland\, Ne
 w Zealand
END:VEVENT
END:VCALENDAR
