BEGIN:VCALENDAR
VERSION:2.0
PRODID:-//Squarespace Inc/Squarespace 6//v6//EN
BEGIN:VEVENT
UID:5a1c81149140b7c30663dc23@squarespace.com
DTSTAMP:20180426T210749Z
DTSTART:20180427T043000Z
DTEND:20180427T110000Z
SUMMARY:The Labyrinth - CANCELLED
GEO:-36.840374;174.754912
LOCATION:Silo Park\, Corner of Beaumont and Jellicoe Street\, Auckland\, Ne
 w Zealand
END:VEVENT
END:VCALENDAR
