BEGIN:VCALENDAR
VERSION:2.0
PRODID:-//Squarespace Inc/Squarespace 6//v6//EN
BEGIN:VEVENT
UID:5be89f23352f53a24d64f6bd@squarespace.com
DTSTAMP:20181216T193122Z
DTSTART:20181221T040000Z
DTEND:20181221T100000Z
SUMMARY:Silo Cinema: People's Choice
GEO:-36.840374;174.754912
LOCATION:Silo Park\, Corner of Jellicoe and Beaumont Street\, Auckland\, Ne
 w Zealand
END:VEVENT
END:VCALENDAR
