BEGIN:VCALENDAR
VERSION:2.0
PRODID:-//Squarespace Inc/Squarespace 6//v6//EN
BEGIN:VEVENT
UID:5a1c801c085229dcccee5c61@squarespace.com
DTSTAMP:20180610T200646Z
DTSTART:20180420T043000Z
DTEND:20180420T113000Z
SUMMARY:O Brother\, Where Art Thou?
GEO:-36.840374;174.754912
LOCATION:Silo Park\, Corner of Beaumont and Jellicoe Street\, Auckland\, Ne
 w Zealand
END:VEVENT
END:VCALENDAR
