BEGIN:VCALENDAR
VERSION:2.0
PRODID:-//Squarespace Inc/Squarespace 6//v6//EN
BEGIN:VEVENT
UID:5b724166575d1f3a6fb3a967@squarespace.com
DTSTAMP:20181111T212907Z
DTSTART:20181019T230000Z
DTEND:20181020T090000Z
SUMMARY:Nowhere Festival
GEO:-36.840374;174.754912
LOCATION:Silo Park\, Corner of Jellicoe and Beaumont Street\, Auckland\, Ne
 w Zealand
END:VEVENT
END:VCALENDAR
