BEGIN:VCALENDAR
VERSION:2.0
PRODID:-//Squarespace Inc/Squarespace 6//v6//EN
BEGIN:VEVENT
UID:5ac2dd93575d1f44459c6c67@squarespace.com
DTSTAMP:20180403T015135Z
DTSTART:20180421T000000Z
DTEND:20180421T060000Z
SUMMARY:Food Space Presents: World On The Street - North American
GEO:-36.840374;174.754912
LOCATION:Silo Park\, Corner of Beaumont and Jellicoe Street\, Auckland\, Ne
 w Zealand
END:VEVENT
END:VCALENDAR
