BEGIN:VCALENDAR
VERSION:2.0
PRODID:-//Squarespace Inc/Squarespace 6//v6//EN
BEGIN:VEVENT
UID:5be8b8554fa51a2b589d1049@squarespace.com
DTSTAMP:20181122T201358Z
DTSTART:20190111T230000Z
DTEND:20190112T030000Z
SUMMARY:Cardboard City
GEO:-36.840374;174.754912
LOCATION:Silo Park\, Corner of Beaumont and Jellicoe Street\, Auckland\, Ne
 w Zealand
END:VEVENT
END:VCALENDAR
