BEGIN:VCALENDAR
VERSION:2.0
PRODID:-//Squarespace Inc/Squarespace 6//v6//EN
BEGIN:VEVENT
UID:5b1d84d688251b5f8fbad34e@squarespace.com
DTSTAMP:20180718T204116Z
DTSTART:20180720T050000Z
DTEND:20180722T050000Z
SUMMARY:Matariki On The Waterfront 2018
GEO:-36.840374;174.754912
LOCATION:Silo Park\, Corner of Beaumont and Jellicoe Street\, Auckland\, Ne
 w Zealand
END:VEVENT
END:VCALENDAR
