BEGIN:VCALENDAR
VERSION:2.0
PRODID:-//Squarespace Inc/Squarespace 6//v6//EN
BEGIN:VEVENT
UID:5ac2dcd6aa4a99295f35b7ce@squarespace.com
DTSTAMP:20180412T214738Z
DTSTART:20180414T000000Z
DTEND:20180414T060000Z
SUMMARY:Food Space Presents: World On The Street - CANCELLED
GEO:-36.840374;174.754912
LOCATION:Silo Park\, Corner of Beaumont and Jellicoe Street\, Auckland\, Ne
 w Zealand
END:VEVENT
END:VCALENDAR
