BEGIN:VCALENDAR
VERSION:2.0
PRODID:-//Squarespace Inc/Squarespace 6//v6//EN
BEGIN:VEVENT
UID:5be8a64240ec9a97ddc36df6@squarespace.com
DTSTAMP:20181126T030524Z
DTSTART:20190215T040000Z
DTEND:20190215T100000Z
SUMMARY:Silo Cinema: Jurassic Park 
GEO:-36.840374;174.754912
LOCATION:Silo Park\, Corner of Jellicoe and Beaumont Street\, Auckland\, Ne
 w Zealand
END:VEVENT
END:VCALENDAR
