BEGIN:VCALENDAR
VERSION:2.0
PRODID:-//Squarespace Inc/Squarespace 6//v6//EN
BEGIN:VEVENT
UID:5be8a3678a922d4a2918375e@squarespace.com
DTSTAMP:20181126T025339Z
DTSTART:20190118T040000Z
DTEND:20190118T100000Z
SUMMARY:Silo Cinema: Isle of Dogs
GEO:-36.840374;174.754912
LOCATION:Silo Park\, Corner of Jellicoe and Beaumont Street\, Auckland\, Ne
 w Zealand
END:VEVENT
END:VCALENDAR
