BEGIN:VCALENDAR
VERSION:2.0
PRODID:-//Squarespace Inc/Squarespace 6//v6//EN
BEGIN:VEVENT
UID:5b7243304ae2379d20ad75ff@squarespace.com
DTSTAMP:20180823T212801Z
DTSTART:20180909T000000Z
DTEND:20181001T080000Z
SUMMARY:Into the Underworld
GEO:-36.840374;174.754912
LOCATION:Silo Park\, Corner of Jellicoe and Beaumont Street\, Auckland\, Ne
 w Zealand
END:VEVENT
END:VCALENDAR
