BEGIN:VCALENDAR
VERSION:2.0
PRODID:-//Squarespace Inc/Squarespace 6//v6//EN
BEGIN:VEVENT
UID:5be8a0c821c67c13123b4d48@squarespace.com
DTSTAMP:20181126T024145Z
DTSTART:20190104T040000Z
DTEND:20190104T100000Z
SUMMARY:Silo Cinema: The Incredibles 2
GEO:-36.840374;174.754912
LOCATION:Silo Park\, Corner of Jellicoe and Beaumont Street\, Auckland\, Ne
 w Zealand
END:VEVENT
END:VCALENDAR
