BEGIN:VCALENDAR
VERSION:2.0
PRODID:-//Squarespace Inc/Squarespace 6//v6//EN
BEGIN:VEVENT
UID:5be8aeadf950b7a8d8c6cbfd@squarespace.com
DTSTAMP:20181122T201842Z
DTSTART:20190126T230000Z
DTEND:20190127T040000Z
SUMMARY:Ice Cream Sundae
GEO:-36.840374;174.754912
LOCATION:Silo Park\, Corner of Beaumont and Jellicoe Street\, Auckland\, Ne
 w Zealand
END:VEVENT
END:VCALENDAR
