BEGIN:VCALENDAR
VERSION:2.0
PRODID:-//Squarespace Inc/Squarespace 6//v6//EN
BEGIN:VEVENT
UID:5a1c8081c83025aa86a57a9e@squarespace.com
DTSTAMP:20180412T214543Z
DTSTART:20180413T043000Z
DTEND:20180413T113000Z
SUMMARY:Guardians of the Galaxy - CANCELLED
GEO:-36.840374;174.754912
LOCATION:Silo Park\, Corner of Beaumont and Jellicoe Street\, Auckland\, Ne
 w Zealand
END:VEVENT
END:VCALENDAR
