BEGIN:VCALENDAR
VERSION:2.0
PRODID:-//Squarespace Inc/Squarespace 6//v6//EN
BEGIN:VEVENT
UID:5ac2db9d0e2e722b0645dc41@squarespace.com
DTSTAMP:20180403T014558Z
DTSTART:20180408T000000Z
DTEND:20180408T060000Z
SUMMARY:Food Space Presents: World On The Street - European Cuisine
GEO:-36.840374;174.754912
LOCATION:Silo Park\, Corner of Beaumont and Jellicoe Street\, Auckland\, Ne
 w Zealand
END:VEVENT
END:VCALENDAR
