BEGIN:VCALENDAR
VERSION:2.0
PRODID:-//Squarespace Inc/Squarespace 6//v6//EN
BEGIN:VEVENT
UID:5ac2de271ae6cf15a4b51f9d@squarespace.com
DTSTAMP:20181111T220945Z
DTSTART:20180429T000000Z
DTEND:20180429T060000Z
SUMMARY:Food Space Presents: World On The Street - CANCELLED
GEO:-36.840374;174.754912
LOCATION:Silo Park\, Corner of Beaumont and Jellicoe Street\, Auckland\, Ne
 w Zealand
END:VEVENT
END:VCALENDAR
