BEGIN:VCALENDAR
VERSION:2.0
PRODID:-//Squarespace Inc/Squarespace 6//v6//EN
BEGIN:VEVENT
UID:5be8ac9b6d2a731b21ea373b@squarespace.com
DTSTAMP:20181122T204632Z
DTSTART:20190208T230000Z
DTEND:20190209T030000Z
SUMMARY:Car Boot Sale of the Future
GEO:-36.840374;174.754912
LOCATION:Silo Park\, Corner of Beaumont and Jellicoe Street\, Auckland\, Ne
 w Zealand
END:VEVENT
END:VCALENDAR
