BEGIN:VCALENDAR
VERSION:2.0
PRODID:-//Squarespace Inc/Squarespace 6//v6//EN
BEGIN:VEVENT
UID:5be9d70f4ae23793ccb559b2@squarespace.com
DTSTAMP:20181126T024616Z
DTSTART:20190104T230000Z
DTEND:20190105T050000Z
SUMMARY:Bubble Trouble
GEO:-36.840374;174.754912
LOCATION:Silo Park\, Corner of Beaumont and Jellicoe Street\, Auckland\, Ne
 w Zealand
END:VEVENT
END:VCALENDAR
