BEGIN:VCALENDAR
VERSION:2.0
PRODID:-//Squarespace Inc/Squarespace 6//v6//EN
BEGIN:VEVENT
UID:5be8a3c840ec9a97ddc34b65@squarespace.com
DTSTAMP:20181126T025903Z
DTSTART:20190201T040000Z
DTEND:20190201T100000Z
SUMMARY:Silo Cinema: The Blues Brothers
GEO:-36.840374;174.754912
LOCATION:Silo Park\, Corner of Jellicoe and Beaumont Street\, Auckland\, Ne
 w Zealand
END:VEVENT
END:VCALENDAR
