BEGIN:VCALENDAR
VERSION:2.0
PRODID:-//Squarespace Inc/Squarespace 6//v6//EN
BEGIN:VEVENT
UID:5be8a1b04fa51a2b589bee46@squarespace.com
DTSTAMP:20181126T024916Z
DTSTART:20190111T040000Z
DTEND:20190111T100000Z
SUMMARY:Silo Cinema: Black Panther
GEO:-36.840374;174.754912
LOCATION:Silo Park\, Corner of Jellicoe and Beaumont Street\, Auckland\, Ne
 w Zealand
END:VEVENT
END:VCALENDAR
