BEGIN:VCALENDAR
VERSION:2.0
PRODID:-//Squarespace Inc/Squarespace 6//v6//EN
BEGIN:VEVENT
UID:5af3a1098a922d34b07065c0@squarespace.com
DTSTAMP:20180606T004412Z
DTSTART:20180517T230000Z
DTEND:20180527T050000Z
SUMMARY:Acts of Passage
GEO:-36.840374;174.754912
LOCATION:Silo Park\, Corner of Jellicoe and Beaumont Street\, Auckland\, Ne
 w Zealand
END:VEVENT
END:VCALENDAR
