BEGIN:VCALENDAR
VERSION:2.0
PRODID:-//Squarespace Inc/Squarespace 6//v6//EN
BEGIN:VEVENT
UID:5bfcc52270a6ad6baf518b94@squarespace.com
DTSTAMP:20181213T223638Z
DTSTART:20190308T220000Z
DTEND:20190324T040000Z
SUMMARY:Silo 6: Wastescape 
END:VEVENT
END:VCALENDAR
