BEGIN:VCALENDAR
VERSION:2.0
PRODID:-//Squarespace Inc/Squarespace 6//v6//EN
BEGIN:VEVENT
UID:5bfcbe0540ec9ab45fa03663@squarespace.com
DTSTAMP:20181127T040806Z
DTSTART:20181201T220000Z
DTEND:20181209T030000Z
SUMMARY:Silo 6: Auckland Intermediate Schools Art Exhibition 
END:VEVENT
END:VCALENDAR
